BEGIN:VCALENDAR
VERSION:2.0
PRODID:-//K.D.St.V. Ostmark - ECPv6.15.17.1//NONSGML v1.0//EN
CALSCALE:GREGORIAN
METHOD:PUBLISH
X-WR-CALNAME:K.D.St.V. Ostmark
X-ORIGINAL-URL:https://www.kdstv-ostmark.de
X-WR-CALDESC:Veranstaltungen für K.D.St.V. Ostmark
REFRESH-INTERVAL;VALUE=DURATION:PT1H
X-Robots-Tag:noindex
X-PUBLISHED-TTL:PT1H
BEGIN:VTIMEZONE
TZID:Europe/Berlin
BEGIN:DAYLIGHT
TZOFFSETFROM:+0100
TZOFFSETTO:+0200
TZNAME:CEST
DTSTART:20180325T010000
END:DAYLIGHT
BEGIN:STANDARD
TZOFFSETFROM:+0200
TZOFFSETTO:+0100
TZNAME:CET
DTSTART:20181028T010000
END:STANDARD
BEGIN:DAYLIGHT
TZOFFSETFROM:+0100
TZOFFSETTO:+0200
TZNAME:CEST
DTSTART:20190331T010000
END:DAYLIGHT
BEGIN:STANDARD
TZOFFSETFROM:+0200
TZOFFSETTO:+0100
TZNAME:CET
DTSTART:20191027T010000
END:STANDARD
BEGIN:DAYLIGHT
TZOFFSETFROM:+0100
TZOFFSETTO:+0200
TZNAME:CEST
DTSTART:20200329T010000
END:DAYLIGHT
BEGIN:STANDARD
TZOFFSETFROM:+0200
TZOFFSETTO:+0100
TZNAME:CET
DTSTART:20201025T010000
END:STANDARD
END:VTIMEZONE
BEGIN:VEVENT
DTSTART;TZID=Europe/Berlin:20190508T183000
DTEND;TZID=Europe/Berlin:20190508T183000
DTSTAMP:20260421T084905
CREATED:20190429T072633Z
LAST-MODIFIED:20190520T112632Z
UID:2774-1557340200-1557340200@www.kdstv-ostmark.de
SUMMARY:Stammtisch auf dem Volksfest
DESCRIPTION:Zum Stammtisch treffen wir uns um 18:30 Uhr am Haupteingang. \nSollte das Wetter nicht mitspielen\, werden wir in eine der umliegenden Kneipen ausweichen.
URL:https://www.kdstv-ostmark.de/event/stammtisch-auf-dem-volksfest/
CATEGORIES:Aktivitas
END:VEVENT
BEGIN:VEVENT
DTSTART;TZID=Europe/Berlin:20190514T190000
DTEND;TZID=Europe/Berlin:20190514T190000
DTSTAMP:20260421T084905
CREATED:20190429T072754Z
LAST-MODIFIED:20190520T112900Z
UID:2776-1557860400-1557860400@www.kdstv-ostmark.de
SUMMARY:1. AC / BC
DESCRIPTION:
URL:https://www.kdstv-ostmark.de/event/1-ac-bc-2/
LOCATION:Ostmarkhaus\, Spittlertorzwinger 4\, Nürnberg\, 90402
CATEGORIES:Aktivitas
END:VEVENT
BEGIN:VEVENT
DTSTART;VALUE=DATE:20190517
DTEND;VALUE=DATE:20190520
DTSTAMP:20260421T084905
CREATED:20190408T122359Z
LAST-MODIFIED:20190520T113235Z
UID:2736-1558051200-1558310399@www.kdstv-ostmark.de
SUMMARY:98. Stiftungsfest
DESCRIPTION:Fr 17.05. 19.30 c.t. Begrüßungsabend\nim Gasthaus Böhm’s Herrenkeller (Theatergasse 19\, 90402 Nürnberg) \nSa 18.05. 14.00 c.t. Mitgliederversammlung des Ostmark Heimvereins\n14.15 c.t. Altherrenconvent (AHC)\n14.45 c.t. Cumulativconvent (CC)\n18.30 c.t. gemeinsames Abendessen im Marmorsaal des Presse-Clubs Nürnberg e.V.\, Gewerbemuseumsplatz 2\, 90403 Nürnberg (Aufzug ist vorhanden)\n20.00 c.t. Festkommers im Marmorsaal des Presse-Clubs Nürnberg e.V.\, Gewerbemuseumsplatz. 2\, 90403 Nürnberg (Aufzug ist vorhanden)\nanschließender Ausklang auf dem Haus \nSo 19.05. 11.30 s.t. Festgottesdienst in Unsere liebe Frau\nanschl. Ex-Bummel\nim Hexenhäusle\, Gaststube und historischer Biergarten\, Vestnertorgraben 4
URL:https://www.kdstv-ostmark.de/event/98-stiftungsfest/
CATEGORIES:Aktivitas
END:VEVENT
BEGIN:VEVENT
DTSTART;TZID=Europe/Berlin:20190523T180000
DTEND;TZID=Europe/Berlin:20190523T180000
DTSTAMP:20260421T084905
CREATED:20190429T072951Z
LAST-MODIFIED:20190522T131801Z
UID:2778-1558634400-1558634400@www.kdstv-ostmark.de
SUMMARY:Ludwig Erhard Zentrum
DESCRIPTION:Am Donnerstag\, den 23.05.2019\, treffen wir uns zu einer Doppel-Veranstaltung\, einem „Kultur-Stammtisch“ zunächst um 18:00h s.t. in Fürth in der Ludwig-Erhard-Straße 6 zur Besichtigung des dortigen Ludwig-Erhard-Zentrums. Neben der Dauerausstellung läuft dort aktuell die Sonderausstellung „Schamlos? Sexualmoral im Wandel“ der Stiftung Haus der Geschichte der Bundesrepublik Deutschland: „Partnerschaft und Sexualität gehören zum Intimsten des Menschen. Gleichzeitig unterliegen sie gesellschaftlichen und politischen Rahmenbedingungen und sind oft Gegenstand öffentlicher Debatten. Gegliedert in sechs Bereiche behandelt die Sonderausstellung die Kontroverse um Sexualität und Geschlechterbeziehungen zwischen Liberalisierung\, Werteverfall und Pluralisierung.“ \nIm Anschluss (ca. 20:00h ff.) laufen wir von dort zum Grüner Brauhaus (Comödienplatz 1)\, um uns daselbst im kulinarischen Teil des Abends zu stärken und die Eindrücke des Museumsbesuchs zu diskutieren.
URL:https://www.kdstv-ostmark.de/event/besichtigung-des-ludwig-erhard-zentrums/
LOCATION:Ludwig Erhard Zentrum\, Ludwig-Erhard-Straße 6\, Fürth\, 90762
CATEGORIES:Aktivitas
ATTACH;FMTTYPE=image/jpeg:https://www.kdstv-ostmark.de/wp/wp-content/uploads/2019/04/800px-Konrad_Adenauer_-_Im_Gespräch_mit_Ludwig_Erhard-kasf0104.jpeg
END:VEVENT
BEGIN:VEVENT
DTSTART;TZID=Europe/Berlin:20190525T100000
DTEND;TZID=Europe/Berlin:20190525T100000
DTSTAMP:20260421T084905
CREATED:20190429T073142Z
LAST-MODIFIED:20221025T161041Z
UID:2780-1558778400-1558778400@www.kdstv-ostmark.de
SUMMARY:Wurst-Seminar
DESCRIPTION:Am Samstag\, den 25.05.2019\, erwartet uns eine „Triple-Veranstaltung“:\nZunächst wenden wir uns erneut der kulinarischen Kultur zu\, es findet um 10:00 c. t. das „Wurst-Seminar“ (1) geleitet von unserem lb. Bbr Phillip Breil statt. Wir werden wieder verschiedene Sorten (Brat-)Würste produzieren und bereits zum Mittagessen einen entsprechenden Imbiss bereithalten.\nAb ca. 15:00 Uhr wird dann der Grill für das Grillfest (2) angefeuert\, um die Qualität unserer frisch produzierten Erzeugnisse zu überprüfen. Kommet zuhauf und bringet Hunger\, Durst und Ausdauer mit\, denn wir werden am Abend selbstverständlich auch das DFB-Pokalfinale RB Leipzig – Bayern München (3) übertragen.
URL:https://www.kdstv-ostmark.de/event/wurst-seminar/
LOCATION:Ostmarkhaus\, Spittlertorzwinger 4\, Nürnberg\, 90402
CATEGORIES:Aktivitas
ATTACH;FMTTYPE=image/jpeg:https://www.kdstv-ostmark.de/wp/wp-content/uploads/2022/10/Wurstseminar-scaled-e1666714135805.jpg
END:VEVENT
BEGIN:VEVENT
DTSTART;TZID=Europe/Berlin:20190529T200000
DTEND;TZID=Europe/Berlin:20190529T200000
DTSTAMP:20260421T084905
CREATED:20190528T102139Z
LAST-MODIFIED:20190528T102139Z
UID:3321-1559160000-1559160000@www.kdstv-ostmark.de
SUMMARY:Kreuzkneipe
DESCRIPTION:Anlässlich des 65. Jubiläums der Freundschaft zwischen der Absolvia Fürth von 1877 im FAC und der AAV Alemannia Fürth im PSC laden beide Bünde zu einer hochoffizielle Kreuzkneipe zur Feier des gemeinsamen Freundschaftsbands ein. Die Freundschaftskneipe findet um 20:00h im Kneipheim der Absolvia in der Rosenstraße 12 statt. Wir hoffen\, dass unsere rot-gold-blauen Ostmark-Farben auf dieser Freundschaftskneipe in adäquater Anzahl vertreten sein werden und freuen uns auf schöne und unbeschwerte Stunden im Kreise unserer verehrten Farbenbrüder.
URL:https://www.kdstv-ostmark.de/event/kreuzkneipe/
LOCATION:Absolvia Fürth\, Rosenstraße 12\, Fürth\, 90762
END:VEVENT
BEGIN:VEVENT
DTSTART;TZID=Europe/Berlin:20190530T190000
DTEND;TZID=Europe/Berlin:20190530T190000
DTSTAMP:20260421T084905
CREATED:20190429T073414Z
LAST-MODIFIED:20190522T135218Z
UID:2784-1559242800-1559242800@www.kdstv-ostmark.de
SUMMARY:Zirkelstammtisch
DESCRIPTION:Stammtisch des CV-Altherrenzirkels Nürnberg-Fürth und Umgebung
URL:https://www.kdstv-ostmark.de/event/zirkelstammtisch-2/
LOCATION:Silberne Kanne\, Breitscheidstraße 15\, Nürnberg\, 90459
CATEGORIES:Aktivitas
ATTACH;FMTTYPE=image/jpeg:https://www.kdstv-ostmark.de/wp/wp-content/uploads/2019/05/IMG_20190425_202916-e1558432315704.jpg
END:VEVENT
END:VCALENDAR