BEGIN:VCALENDAR
VERSION:2.0
PRODID:-//K.D.St.V. Ostmark - ECPv6.15.17.1//NONSGML v1.0//EN
CALSCALE:GREGORIAN
METHOD:PUBLISH
X-WR-CALNAME:K.D.St.V. Ostmark
X-ORIGINAL-URL:https://www.kdstv-ostmark.de
X-WR-CALDESC:Veranstaltungen für K.D.St.V. Ostmark
REFRESH-INTERVAL;VALUE=DURATION:PT1H
X-Robots-Tag:noindex
X-PUBLISHED-TTL:PT1H
BEGIN:VTIMEZONE
TZID:Europe/Berlin
BEGIN:DAYLIGHT
TZOFFSETFROM:+0100
TZOFFSETTO:+0200
TZNAME:CEST
DTSTART:20170326T010000
END:DAYLIGHT
BEGIN:STANDARD
TZOFFSETFROM:+0200
TZOFFSETTO:+0100
TZNAME:CET
DTSTART:20171029T010000
END:STANDARD
BEGIN:DAYLIGHT
TZOFFSETFROM:+0100
TZOFFSETTO:+0200
TZNAME:CEST
DTSTART:20180325T010000
END:DAYLIGHT
BEGIN:STANDARD
TZOFFSETFROM:+0200
TZOFFSETTO:+0100
TZNAME:CET
DTSTART:20181028T010000
END:STANDARD
BEGIN:DAYLIGHT
TZOFFSETFROM:+0100
TZOFFSETTO:+0200
TZNAME:CEST
DTSTART:20190331T010000
END:DAYLIGHT
BEGIN:STANDARD
TZOFFSETFROM:+0200
TZOFFSETTO:+0100
TZNAME:CET
DTSTART:20191027T010000
END:STANDARD
END:VTIMEZONE
BEGIN:VEVENT
DTSTART;TZID=Europe/Berlin:20181104T100000
DTEND;TZID=Europe/Berlin:20181104T100000
DTSTAMP:20260421T180746
CREATED:20181017T085458Z
LAST-MODIFIED:20181017T085458Z
UID:453-1541325600-1541325600@www.kdstv-ostmark.de
SUMMARY:Gemeinsamer Gottesdienst
DESCRIPTION:Ⓗ Hummelsteiner Weg\nMit anschließendem Frühschoppen
URL:https://www.kdstv-ostmark.de/event/gemeinsamer-gottesdienst-7/
LOCATION:Herz Jesu Nürnberg\, Dallingerstraße 20\, Nürnberg\, 90459
CATEGORIES:Aktivitas
END:VEVENT
BEGIN:VEVENT
DTSTART;TZID=Europe/Berlin:20181109T193000
DTEND;TZID=Europe/Berlin:20181109T193000
DTSTAMP:20260421T180746
CREATED:20181017T085546Z
LAST-MODIFIED:20181017T085546Z
UID:455-1541791800-1541791800@www.kdstv-ostmark.de
SUMMARY:Spanischer Abend
DESCRIPTION:Bbr. Alexander Lauterkorn v/o Tiger wird uns nach seinem Auslandssemester Spanien näher bringen.
URL:https://www.kdstv-ostmark.de/event/spanischer-abend/
LOCATION:Ostmarkhaus\, Spittlertorzwinger 4\, Nürnberg\, 90402
CATEGORIES:Aktivitas
END:VEVENT
BEGIN:VEVENT
DTSTART;TZID=Europe/Berlin:20181118T183000
DTEND;TZID=Europe/Berlin:20181118T183000
DTSTAMP:20260421T180746
CREATED:20190222T140735Z
LAST-MODIFIED:20190222T143510Z
UID:459-1542565800-1542565800@www.kdstv-ostmark.de
SUMMARY:Trauerkneipe
DESCRIPTION:Trauerkneipe zu Ehren unserer verstorbenen Bundesbrüder
URL:https://www.kdstv-ostmark.de/event/trauerkneipe-4/
LOCATION:Ostmarkhaus\, Spittlertorzwinger 4\, Nürnberg\, 90402
CATEGORIES:Aktivitas
END:VEVENT
BEGIN:VEVENT
DTSTART;TZID=Europe/Berlin:20181120T193000
DTEND;TZID=Europe/Berlin:20181120T193000
DTSTAMP:20260421T180746
CREATED:20190222T140855Z
LAST-MODIFIED:20190222T143136Z
UID:461-1542742200-1542742200@www.kdstv-ostmark.de
SUMMARY:Convente
DESCRIPTION:1. BC
URL:https://www.kdstv-ostmark.de/event/1-bc/
LOCATION:Ostmarkhaus\, Spittlertorzwinger 4\, Nürnberg\, 90402
CATEGORIES:Aktivitas
END:VEVENT
BEGIN:VEVENT
DTSTART;TZID=Europe/Berlin:20181124T200000
DTEND;TZID=Europe/Berlin:20181124T200000
DTSTAMP:20260421T180746
CREATED:20190222T141100Z
LAST-MODIFIED:20190222T141517Z
UID:463-1543089600-1543089600@www.kdstv-ostmark.de
SUMMARY:8. Stiftungsfest e. v. Palatina Amberg
DESCRIPTION:In Treue fest!\n\nDas Stiftungsfest unserer lieben Patenverbindung Palatina zu Amberg und Weiden;\nWer fahren möchte oder eine Mitfahrgelegenheit sucht möge sich an unseren hohen Senior wenden.
URL:https://www.kdstv-ostmark.de/event/8-stiftungsfest-e-v-palatina-amberg/
LOCATION:ACC Amberg\, Schießstätteweg 8\, Amberg\, 92224
CATEGORIES:Aktivitas
END:VEVENT
END:VCALENDAR