BEGIN:VCALENDAR
VERSION:2.0
PRODID:-//K.D.St.V. Ostmark - ECPv6.15.17.1//NONSGML v1.0//EN
CALSCALE:GREGORIAN
METHOD:PUBLISH
X-WR-CALNAME:K.D.St.V. Ostmark
X-ORIGINAL-URL:https://www.kdstv-ostmark.de
X-WR-CALDESC:Veranstaltungen für K.D.St.V. Ostmark
REFRESH-INTERVAL;VALUE=DURATION:PT1H
X-Robots-Tag:noindex
X-PUBLISHED-TTL:PT1H
BEGIN:VTIMEZONE
TZID:Europe/Berlin
BEGIN:DAYLIGHT
TZOFFSETFROM:+0100
TZOFFSETTO:+0200
TZNAME:CEST
DTSTART:20170326T010000
END:DAYLIGHT
BEGIN:STANDARD
TZOFFSETFROM:+0200
TZOFFSETTO:+0100
TZNAME:CET
DTSTART:20171029T010000
END:STANDARD
BEGIN:DAYLIGHT
TZOFFSETFROM:+0100
TZOFFSETTO:+0200
TZNAME:CEST
DTSTART:20180325T010000
END:DAYLIGHT
BEGIN:STANDARD
TZOFFSETFROM:+0200
TZOFFSETTO:+0100
TZNAME:CET
DTSTART:20181028T010000
END:STANDARD
BEGIN:DAYLIGHT
TZOFFSETFROM:+0100
TZOFFSETTO:+0200
TZNAME:CEST
DTSTART:20190331T010000
END:DAYLIGHT
BEGIN:STANDARD
TZOFFSETFROM:+0200
TZOFFSETTO:+0100
TZNAME:CET
DTSTART:20191027T010000
END:STANDARD
END:VTIMEZONE
BEGIN:VEVENT
DTSTART;VALUE=DATE:20180531
DTEND;VALUE=DATE:20180604
DTSTAMP:20260422T021330
CREATED:20180925T172052Z
LAST-MODIFIED:20180925T172052Z
UID:400-1527724800-1528070399@www.kdstv-ostmark.de
SUMMARY:132. Cartellversammlung in Köln
DESCRIPTION:132. Cartellversammlung in Köln\nDetails unter www.cv2018.de
URL:https://www.kdstv-ostmark.de/event/132-cartellversammlung-in-koeln/
CATEGORIES:Aktivitas
END:VEVENT
BEGIN:VEVENT
DTSTART;TZID=Europe/Berlin:20180603T100000
DTEND;TZID=Europe/Berlin:20180603T100000
DTSTAMP:20260422T021330
CREATED:20180925T211710Z
LAST-MODIFIED:20180925T211710Z
UID:402-1528020000-1528020000@www.kdstv-ostmark.de
SUMMARY:Gemeinsamer Gottesdienst
DESCRIPTION:Ⓗ Hummelsteiner Weg\nMit anschließendem Frühschoppen
URL:https://www.kdstv-ostmark.de/event/gemeinsamer-gottesdienst-5/
LOCATION:Herz Jesu Nürnberg\, Dallingerstraße 20\, Nürnberg\, 90459
CATEGORIES:Aktivitas
END:VEVENT
BEGIN:VEVENT
DTSTART;VALUE=DATE:20180608
DTEND;VALUE=DATE:20180611
DTSTAMP:20260422T021330
CREATED:20180925T211817Z
LAST-MODIFIED:20180925T211817Z
UID:404-1528416000-1528675199@www.kdstv-ostmark.de
SUMMARY:97. Stiftungsfest
DESCRIPTION:Fr 08.06. 19.30 c.t. Begrüßungsabend\nim Gasthaus Gaststätte Pillhofer (Königstraße 78\, 90402 Nürnberg)Sa 09.06. 14.00 c.t. Mitgliederversammlung des Ostmark Heimvereins\n14.15 c.t. Altherrenconvent (AHC)\n14.45 c.t. Cumulativconvent (CC)\n20.00 c.t. Festkommers im Festsaal des DB Museums (Lessingstr. 6\, 90443 Nürnberg)\nanschließender Ausklang auf dem Haus \nSo 10.06. 11.30 c.t. Festgottesdienst in Unsere liebe Frau\nanschl.Ex-Bummel\nim Hexenhäusle\, Gaststube und historischer Biergarten\, Vestnertorgraben 4
URL:https://www.kdstv-ostmark.de/event/97-stiftungsfest/
CATEGORIES:Aktivitas
END:VEVENT
BEGIN:VEVENT
DTSTART;TZID=Europe/Berlin:20180616T100000
DTEND;TZID=Europe/Berlin:20180616T100000
DTSTAMP:20260422T021330
CREATED:20180925T211922Z
LAST-MODIFIED:20180925T211922Z
UID:406-1529143200-1529143200@www.kdstv-ostmark.de
SUMMARY:Bratwurstcolloquium
DESCRIPTION:„Wurst ist eine Götterspeise. Denn nur Gott weiß\, was drin ist.“\n(Jean Paul\, dt. Schriftsteller)
URL:https://www.kdstv-ostmark.de/event/bratwurstcolloquium/
LOCATION:Ostmarkhaus\, Spittlertorzwinger 4\, Nürnberg\, 90402
CATEGORIES:Aktivitas
END:VEVENT
BEGIN:VEVENT
DTSTART;TZID=Europe/Berlin:20180617T170000
DTEND;TZID=Europe/Berlin:20180617T170000
DTSTAMP:20260422T021330
CREATED:20180925T212024Z
LAST-MODIFIED:20180925T213332Z
UID:408-1529254800-1529254800@www.kdstv-ostmark.de
SUMMARY:WM 2018: Deutschland - Mexiko
DESCRIPTION:Zur Fußball-WM übertragen wir\, wie gewohnt\, die Spiele mit deutscher Beteiligung. Sollte das Finale ohne deutsche Beteiligung stattfinden\, werden wir dieses auch übertragen.
URL:https://www.kdstv-ostmark.de/event/wm-2018-deutschland-mexiko/
LOCATION:Ostmarkhaus\, Spittlertorzwinger 4\, Nürnberg\, 90402
CATEGORIES:Aktivitas
END:VEVENT
BEGIN:VEVENT
DTSTART;TZID=Europe/Berlin:20180623T173000
DTEND;TZID=Europe/Berlin:20180623T173000
DTSTAMP:20260422T021330
CREATED:20180925T212130Z
LAST-MODIFIED:20180925T212130Z
UID:410-1529775000-1529775000@www.kdstv-ostmark.de
SUMMARY:Fußballkneipe
DESCRIPTION:„Zieht den Schweden die Schrauben aus dem Schrank!“\nDeutscher Fangesang (WM 2006) \nSchiedsrichter: Bbr Stefan Heinisch v/o Nafets
URL:https://www.kdstv-ostmark.de/event/fussballkneipe/
LOCATION:Ostmarkhaus\, Spittlertorzwinger 4\, Nürnberg\, 90402
CATEGORIES:Aktivitas
END:VEVENT
BEGIN:VEVENT
DTSTART;TZID=Europe/Berlin:20180623T200000
DTEND;TZID=Europe/Berlin:20180623T200000
DTSTAMP:20260422T021330
CREATED:20180925T212256Z
LAST-MODIFIED:20180925T213354Z
UID:412-1529784000-1529784000@www.kdstv-ostmark.de
SUMMARY:WM 2018: Deutschland - Schweden
DESCRIPTION:Zur Fußball-WM übertragen wir\, wie gewohnt\, die Spiele mit deutscher Beteiligung. Sollte das Finale ohne deutsche Beteiligung stattfinden\, werden wir dieses auch übertragen.
URL:https://www.kdstv-ostmark.de/event/wm-2018-deutschland-schweden/
LOCATION:Ostmarkhaus\, Spittlertorzwinger 4\, Nürnberg\, 90402
CATEGORIES:Aktivitas
END:VEVENT
BEGIN:VEVENT
DTSTART;TZID=Europe/Berlin:20180627T160000
DTEND;TZID=Europe/Berlin:20180627T160000
DTSTAMP:20260422T021330
CREATED:20180925T212410Z
LAST-MODIFIED:20180925T213417Z
UID:414-1530115200-1530115200@www.kdstv-ostmark.de
SUMMARY:WM 2018: Deutschland - Südkorea
DESCRIPTION:Zur Fußball-WM übertragen wir\, wie gewohnt\, die Spiele mit deutscher Beteiligung. Sollte das Finale ohne deutsche Beteiligung stattfinden\, werden wir dieses auch übertragen.
URL:https://www.kdstv-ostmark.de/event/wm-2018-deutschland-suedkorea/
LOCATION:Ostmarkhaus\, Spittlertorzwinger 4\, Nürnberg\, 90402
CATEGORIES:Aktivitas
END:VEVENT
BEGIN:VEVENT
DTSTART;TZID=Europe/Berlin:20180627T193000
DTEND;TZID=Europe/Berlin:20180627T193000
DTSTAMP:20260422T021330
CREATED:20180925T212516Z
LAST-MODIFIED:20180925T213441Z
UID:416-1530127800-1530127800@www.kdstv-ostmark.de
SUMMARY:Vesperstammtisch
DESCRIPTION:Beisammensein bei gemeinsamer Brotzeit
URL:https://www.kdstv-ostmark.de/event/vesperstammtisch-3/
LOCATION:Ostmarkhaus\, Spittlertorzwinger 4\, Nürnberg\, 90402
CATEGORIES:Aktivitas
END:VEVENT
BEGIN:VEVENT
DTSTART;TZID=Europe/Berlin:20180630T170000
DTEND;TZID=Europe/Berlin:20180630T170000
DTSTAMP:20260422T021330
CREATED:20180925T212617Z
LAST-MODIFIED:20180925T212617Z
UID:418-1530378000-1530378000@www.kdstv-ostmark.de
SUMMARY:Wallenstein-Festspiele
DESCRIPTION:„Es ist der Geist\, der sich den Körper baut.“\nDr. Richter\, Reformempfehlung für die Altdorfer Universität \no Lagerleben auf dem Marktplatz\no Schillers „Wallenstein“\, Vorstellungsbeginn 20:30 Uhr
URL:https://www.kdstv-ostmark.de/event/wallenstein-festspiele/
CATEGORIES:Aktivitas
END:VEVENT
END:VCALENDAR