BEGIN:VCALENDAR
VERSION:2.0
PRODID:-//K.D.St.V. Ostmark - ECPv6.15.17.1//NONSGML v1.0//EN
CALSCALE:GREGORIAN
METHOD:PUBLISH
X-ORIGINAL-URL:https://www.kdstv-ostmark.de
X-WR-CALDESC:Veranstaltungen für K.D.St.V. Ostmark
REFRESH-INTERVAL;VALUE=DURATION:PT1H
X-Robots-Tag:noindex
X-PUBLISHED-TTL:PT1H
BEGIN:VTIMEZONE
TZID:Europe/Berlin
BEGIN:DAYLIGHT
TZOFFSETFROM:+0100
TZOFFSETTO:+0200
TZNAME:CEST
DTSTART:20160327T010000
END:DAYLIGHT
BEGIN:STANDARD
TZOFFSETFROM:+0200
TZOFFSETTO:+0100
TZNAME:CET
DTSTART:20161030T010000
END:STANDARD
BEGIN:DAYLIGHT
TZOFFSETFROM:+0100
TZOFFSETTO:+0200
TZNAME:CEST
DTSTART:20170326T010000
END:DAYLIGHT
BEGIN:STANDARD
TZOFFSETFROM:+0200
TZOFFSETTO:+0100
TZNAME:CET
DTSTART:20171029T010000
END:STANDARD
BEGIN:DAYLIGHT
TZOFFSETFROM:+0100
TZOFFSETTO:+0200
TZNAME:CEST
DTSTART:20180325T010000
END:DAYLIGHT
BEGIN:STANDARD
TZOFFSETFROM:+0200
TZOFFSETTO:+0100
TZNAME:CET
DTSTART:20181028T010000
END:STANDARD
END:VTIMEZONE
BEGIN:VEVENT
DTSTART;TZID=Europe/Berlin:20170503T190000
DTEND;TZID=Europe/Berlin:20170503T190000
DTSTAMP:20260422T233558
CREATED:20170329T120954Z
LAST-MODIFIED:20170329T120954Z
UID:309-1493838000-1493838000@www.kdstv-ostmark.de
SUMMARY:Themenstammtisch
DESCRIPTION:
URL:https://www.kdstv-ostmark.de/event/themenstammtisch/
LOCATION:Ostmarkhaus\, Spittlertorzwinger 4\, Nürnberg\, 90402
CATEGORIES:Aktivitas
END:VEVENT
BEGIN:VEVENT
DTSTART;TZID=Europe/Berlin:20170506T180000
DTEND;TZID=Europe/Berlin:20170506T180000
DTSTAMP:20260422T233558
CREATED:20170329T121055Z
LAST-MODIFIED:20170329T121055Z
UID:311-1494093600-1494093600@www.kdstv-ostmark.de
SUMMARY:"Feier am Samstag beim Montag"
DESCRIPTION:Da die Anzahl der Teilnehmer begrenzt ist\, melden sich bitte alle Interessierten bis zum 15.04.2017 bei unserem Consenior an.
URL:https://www.kdstv-ostmark.de/event/feier-am-samstag-beim-montag/
CATEGORIES:Aktivitas
END:VEVENT
BEGIN:VEVENT
DTSTART;VALUE=DATE:20170512
DTEND;VALUE=DATE:20170515
DTSTAMP:20260422T233558
CREATED:20170329T121330Z
LAST-MODIFIED:20170329T121330Z
UID:313-1494547200-1494806399@www.kdstv-ostmark.de
SUMMARY:96. Stiftungsfest
DESCRIPTION:Fr 12.05. 19.30 c.t. Begrüßungsabend\nim Gasthaus Pillhofer (Königstraße 78\, 90402 Nürnberg) \nSa 13.05. 14.00 c.t. Mitgliederversammlung des Ostmark Heimvereins\n14.15 c.t. Altherrenconvent (AHC)\n14.45 c.t. Cumulativconvent (CC)\n20.00 c.t. Festkommers im Festsaal des DB Museums (Lessingstr. 6\, 90443 Nürnberg)\nanschl.      Ausklang auf dem Haus \nSo 14.05. 10.45 c.t. Gottesdienst in St. Clemens\n                  12.00 c.t. OV-Landpartie zum Muttertag\nIm Gewächshaus (Schleswiger Straße 100\, 90427 Nürnberg).\nWeitere Informationen und verbindliche Anmeldung bis 04. Mai bei Thomas Reinfelder Ost! (ovv@kdstv-ostmark.de).
URL:https://www.kdstv-ostmark.de/event/96-stiftungsfest/
CATEGORIES:Aktivitas
END:VEVENT
BEGIN:VEVENT
DTSTART;TZID=Europe/Berlin:20170524T200000
DTEND;TZID=Europe/Berlin:20170524T200000
DTSTAMP:20260422T233558
CREATED:20170329T121405Z
LAST-MODIFIED:20170329T121405Z
UID:315-1495656000-1495656000@www.kdstv-ostmark.de
SUMMARY:Brandungskneipe
DESCRIPTION:
URL:https://www.kdstv-ostmark.de/event/brandungskneipe/
LOCATION:Ostmarkhaus\, Spittlertorzwinger 4\, Nürnberg\, 90402
CATEGORIES:Aktivitas
END:VEVENT
END:VCALENDAR