BEGIN:VCALENDAR
VERSION:2.0
PRODID:-//K.D.St.V. Ostmark - ECPv6.15.17.1//NONSGML v1.0//EN
CALSCALE:GREGORIAN
METHOD:PUBLISH
X-ORIGINAL-URL:https://www.kdstv-ostmark.de
X-WR-CALDESC:Veranstaltungen für K.D.St.V. Ostmark
REFRESH-INTERVAL;VALUE=DURATION:PT1H
X-Robots-Tag:noindex
X-PUBLISHED-TTL:PT1H
BEGIN:VTIMEZONE
TZID:Europe/Berlin
BEGIN:DAYLIGHT
TZOFFSETFROM:+0100
TZOFFSETTO:+0200
TZNAME:CEST
DTSTART:20160327T010000
END:DAYLIGHT
BEGIN:STANDARD
TZOFFSETFROM:+0200
TZOFFSETTO:+0100
TZNAME:CET
DTSTART:20161030T010000
END:STANDARD
BEGIN:DAYLIGHT
TZOFFSETFROM:+0100
TZOFFSETTO:+0200
TZNAME:CEST
DTSTART:20170326T010000
END:DAYLIGHT
BEGIN:STANDARD
TZOFFSETFROM:+0200
TZOFFSETTO:+0100
TZNAME:CET
DTSTART:20171029T010000
END:STANDARD
BEGIN:DAYLIGHT
TZOFFSETFROM:+0100
TZOFFSETTO:+0200
TZNAME:CEST
DTSTART:20180325T010000
END:DAYLIGHT
BEGIN:STANDARD
TZOFFSETFROM:+0200
TZOFFSETTO:+0100
TZNAME:CET
DTSTART:20181028T010000
END:STANDARD
END:VTIMEZONE
BEGIN:VEVENT
DTSTART;TZID=Europe/Berlin:20170201T190000
DTEND;TZID=Europe/Berlin:20170201T190000
DTSTAMP:20260423T044026
CREATED:20161013T152008Z
LAST-MODIFIED:20161013T152008Z
UID:293-1485975600-1485975600@www.kdstv-ostmark.de
SUMMARY:Österreichischer Abend
DESCRIPTION:Kulinarischer Ausflug in unserer liebstes Nachbarland
URL:https://www.kdstv-ostmark.de/event/oesterreichischer-abend/
LOCATION:Ostmarkhaus\, Spittlertorzwinger 4\, Nürnberg\, 90402
CATEGORIES:Aktivitas
END:VEVENT
BEGIN:VEVENT
DTSTART;TZID=Europe/Berlin:20170210T183000
DTEND;TZID=Europe/Berlin:20170210T183000
DTSTAMP:20260423T044026
CREATED:20161013T152114Z
LAST-MODIFIED:20220926T121503Z
UID:294-1486751400-1486751400@www.kdstv-ostmark.de
SUMMARY:Semesterabschlusskneipe
DESCRIPTION:»Beer is cheaper than therapy« \n18:30 s.t. Gemeinsamer Gottesdienst auf’m Haus\n19:00 c.t. Gemeinsames Essen\n20:00 s.t. Semesterabschlusskneipe
URL:https://www.kdstv-ostmark.de/event/semesterabschlusskneipe-3/
LOCATION:Ostmarkhaus\, Spittlertorzwinger 4\, Nürnberg\, 90402
CATEGORIES:Aktivitas
END:VEVENT
END:VCALENDAR