BEGIN:VCALENDAR
VERSION:2.0
PRODID:-//K.D.St.V. Ostmark - ECPv6.15.17.1//NONSGML v1.0//EN
CALSCALE:GREGORIAN
METHOD:PUBLISH
X-ORIGINAL-URL:https://www.kdstv-ostmark.de
X-WR-CALDESC:Veranstaltungen für K.D.St.V. Ostmark
REFRESH-INTERVAL;VALUE=DURATION:PT1H
X-Robots-Tag:noindex
X-PUBLISHED-TTL:PT1H
BEGIN:VTIMEZONE
TZID:Europe/Berlin
BEGIN:DAYLIGHT
TZOFFSETFROM:+0100
TZOFFSETTO:+0200
TZNAME:CEST
DTSTART:20150329T010000
END:DAYLIGHT
BEGIN:STANDARD
TZOFFSETFROM:+0200
TZOFFSETTO:+0100
TZNAME:CET
DTSTART:20151025T010000
END:STANDARD
BEGIN:DAYLIGHT
TZOFFSETFROM:+0100
TZOFFSETTO:+0200
TZNAME:CEST
DTSTART:20160327T010000
END:DAYLIGHT
BEGIN:STANDARD
TZOFFSETFROM:+0200
TZOFFSETTO:+0100
TZNAME:CET
DTSTART:20161030T010000
END:STANDARD
BEGIN:DAYLIGHT
TZOFFSETFROM:+0100
TZOFFSETTO:+0200
TZNAME:CEST
DTSTART:20170326T010000
END:DAYLIGHT
BEGIN:STANDARD
TZOFFSETFROM:+0200
TZOFFSETTO:+0100
TZNAME:CET
DTSTART:20171029T010000
END:STANDARD
END:VTIMEZONE
BEGIN:VEVENT
DTSTART;TZID=Europe/Berlin:20161120T190000
DTEND;TZID=Europe/Berlin:20161120T190000
DTSTAMP:20260423T100051
CREATED:20161013T145502Z
LAST-MODIFIED:20161013T145502Z
UID:282-1479668400-1479668400@www.kdstv-ostmark.de
SUMMARY:Trauerkneipe
DESCRIPTION:Trauerkneipe zum Gedenken an unsere verstorbenen Bundesbrüder.
URL:https://www.kdstv-ostmark.de/event/trauerkneipe-2/
LOCATION:Ostmarkhaus\, Spittlertorzwinger 4\, Nürnberg\, 90402
CATEGORIES:Aktivitas
END:VEVENT
BEGIN:VEVENT
DTSTART;TZID=Europe/Berlin:20161130T193000
DTEND;TZID=Europe/Berlin:20161130T193000
DTSTAMP:20260423T100051
CREATED:20161013T145651Z
LAST-MODIFIED:20161013T145651Z
UID:283-1480534200-1480534200@www.kdstv-ostmark.de
SUMMARY:Round-Table: Marketing und MaFo
DESCRIPTION:»Wer nicht neugierig ist\, erfährt nichts« Johann Wolfgang von Goethe\nSpezialisten aus Forschung und Wirtschaft stellen sich auf dem Ostmarkhaus ungezwungen Fragen von Studenten und Interessierten zu den Themengebieten Marketing und Marktforschung.\nU.a. mit Cbr. Prof. Dr. Christian Pescher (FAU)\, Jürgen Keller (Keller & Kollegen)
URL:https://www.kdstv-ostmark.de/event/round-table-marketing-und-mafo/
LOCATION:Ostmarkhaus\, Spittlertorzwinger 4\, Nürnberg\, 90402
CATEGORIES:Aktivitas
END:VEVENT
END:VCALENDAR