BEGIN:VCALENDAR
VERSION:2.0
PRODID:-//K.D.St.V. Ostmark - ECPv6.15.17.1//NONSGML v1.0//EN
CALSCALE:GREGORIAN
METHOD:PUBLISH
X-WR-CALNAME:K.D.St.V. Ostmark
X-ORIGINAL-URL:https://www.kdstv-ostmark.de
X-WR-CALDESC:Veranstaltungen für K.D.St.V. Ostmark
REFRESH-INTERVAL;VALUE=DURATION:PT1H
X-Robots-Tag:noindex
X-PUBLISHED-TTL:PT1H
BEGIN:VTIMEZONE
TZID:Europe/Berlin
BEGIN:DAYLIGHT
TZOFFSETFROM:+0100
TZOFFSETTO:+0200
TZNAME:CEST
DTSTART:20140330T010000
END:DAYLIGHT
BEGIN:STANDARD
TZOFFSETFROM:+0200
TZOFFSETTO:+0100
TZNAME:CET
DTSTART:20141026T010000
END:STANDARD
BEGIN:DAYLIGHT
TZOFFSETFROM:+0100
TZOFFSETTO:+0200
TZNAME:CEST
DTSTART:20150329T010000
END:DAYLIGHT
BEGIN:STANDARD
TZOFFSETFROM:+0200
TZOFFSETTO:+0100
TZNAME:CET
DTSTART:20151025T010000
END:STANDARD
BEGIN:DAYLIGHT
TZOFFSETFROM:+0100
TZOFFSETTO:+0200
TZNAME:CEST
DTSTART:20160327T010000
END:DAYLIGHT
BEGIN:STANDARD
TZOFFSETFROM:+0200
TZOFFSETTO:+0100
TZNAME:CET
DTSTART:20161030T010000
END:STANDARD
END:VTIMEZONE
BEGIN:VEVENT
DTSTART;TZID=Europe/Berlin:20151103T200000
DTEND;TZID=Europe/Berlin:20151103T200000
DTSTAMP:20260424T050807
CREATED:20151008T155027Z
LAST-MODIFIED:20151008T160432Z
UID:196-1446580800-1446580800@www.kdstv-ostmark.de
SUMMARY:Convente (1. AC / 1. BC)
DESCRIPTION:»(…) die einen schrien dies\, die anderen das\,und die meisten wussten nicht einmal\, weshalb man überhaupt zusammengekommen war.« (Apg 19\,32)
URL:https://www.kdstv-ostmark.de/event/convente-1-ac-1-bc/
LOCATION:Ostmarkhaus\, Spittlertorzwinger 4\, Nürnberg\, 90402
CATEGORIES:Aktivitas
END:VEVENT
BEGIN:VEVENT
DTSTART;TZID=Europe/Berlin:20151105T200000
DTEND;TZID=Europe/Berlin:20151105T200000
DTSTAMP:20260424T050807
CREATED:20151008T155154Z
LAST-MODIFIED:20151008T160419Z
UID:197-1446753600-1446753600@www.kdstv-ostmark.de
SUMMARY:Semesterparty
DESCRIPTION:»No one looks back on their life and remembers the nights they got plenty of sleep.«
URL:https://www.kdstv-ostmark.de/event/semesterparty/
CATEGORIES:Aktivitas
END:VEVENT
BEGIN:VEVENT
DTSTART;VALUE=DATE:20151107
DTEND;VALUE=DATE:20151108
DTSTAMP:20260424T050807
CREATED:20151008T155310Z
LAST-MODIFIED:20151008T160406Z
UID:198-1446854400-1446940799@www.kdstv-ostmark.de
SUMMARY:Stiftungsfest K.D.St.V. Palatina
DESCRIPTION:»Ein Mann\, der keine Zeit mit seiner Familie verbringt\, ist kein richtiger Mann.« (Der Pate)\nStiftungsfest unserer lieben Patenverbindung K.D.St.V. Palatina zu Amberg und Weiden.\nMehr Informationen:\nwww.kdstv-palatina.de
URL:https://www.kdstv-ostmark.de/event/stiftungsfest-k-d-st-v-palatina/
CATEGORIES:Aktivitas
END:VEVENT
BEGIN:VEVENT
DTSTART;TZID=Europe/Berlin:20151111T180000
DTEND;TZID=Europe/Berlin:20151111T180000
DTSTAMP:20260424T050807
CREATED:20151008T155529Z
LAST-MODIFIED:20151008T160356Z
UID:199-1447264800-1447264800@www.kdstv-ostmark.de
SUMMARY:Kunstvilla
DESCRIPTION:Gemeinsamer Besuch der Kunstvilla Nürnberg mit AH Dr. Lederer.\nBegrüßung durch Alt-OB Fbr Dr. Schönlein.
URL:https://www.kdstv-ostmark.de/event/kunstvilla/
LOCATION:Kunstvilla\, Blumenstraße 17\, Nürnberg\, Bayern\, 90402
CATEGORIES:Aktivitas
END:VEVENT
BEGIN:VEVENT
DTSTART;TZID=Europe/Berlin:20151115T200000
DTEND;TZID=Europe/Berlin:20151115T200000
DTSTAMP:20260424T050807
CREATED:20151008T155614Z
LAST-MODIFIED:20151008T160345Z
UID:201-1447617600-1447617600@www.kdstv-ostmark.de
SUMMARY:Trauerkneipe
DESCRIPTION:
URL:https://www.kdstv-ostmark.de/event/trauerkneipe/
LOCATION:Ostmarkhaus\, Spittlertorzwinger 4\, Nürnberg\, 90402
CATEGORIES:Aktivitas
END:VEVENT
END:VCALENDAR