BEGIN:VCALENDAR
VERSION:2.0
PRODID:-//K.D.St.V. Ostmark - ECPv6.15.17.1//NONSGML v1.0//EN
CALSCALE:GREGORIAN
METHOD:PUBLISH
X-WR-CALNAME:K.D.St.V. Ostmark
X-ORIGINAL-URL:https://www.kdstv-ostmark.de
X-WR-CALDESC:Veranstaltungen für K.D.St.V. Ostmark
REFRESH-INTERVAL;VALUE=DURATION:PT1H
X-Robots-Tag:noindex
X-PUBLISHED-TTL:PT1H
BEGIN:VTIMEZONE
TZID:Europe/Berlin
BEGIN:DAYLIGHT
TZOFFSETFROM:+0100
TZOFFSETTO:+0200
TZNAME:CEST
DTSTART:20250330T010000
END:DAYLIGHT
BEGIN:STANDARD
TZOFFSETFROM:+0200
TZOFFSETTO:+0100
TZNAME:CET
DTSTART:20251026T010000
END:STANDARD
BEGIN:DAYLIGHT
TZOFFSETFROM:+0100
TZOFFSETTO:+0200
TZNAME:CEST
DTSTART:20260329T010000
END:DAYLIGHT
BEGIN:STANDARD
TZOFFSETFROM:+0200
TZOFFSETTO:+0100
TZNAME:CET
DTSTART:20261025T010000
END:STANDARD
BEGIN:DAYLIGHT
TZOFFSETFROM:+0100
TZOFFSETTO:+0200
TZNAME:CEST
DTSTART:20270328T010000
END:DAYLIGHT
BEGIN:STANDARD
TZOFFSETFROM:+0200
TZOFFSETTO:+0100
TZNAME:CET
DTSTART:20271031T010000
END:STANDARD
END:VTIMEZONE
BEGIN:VEVENT
DTSTART;TZID=Europe/Berlin:20260419T110000
DTEND;TZID=Europe/Berlin:20260419T110000
DTSTAMP:20260419T154541
CREATED:20260318T080649Z
LAST-MODIFIED:20260318T080649Z
UID:5347-1776596400-1776596400@www.kdstv-ostmark.de
SUMMARY:Semester - Antrittsgottesdienst
DESCRIPTION:in Verklärung Christi\, Sperberstr. 53\, 90461 Nürnberg \nanschließend Ausklang im „Landbierparadies“\, Sterzinger Str. 4\, 90461 Nürnberg
URL:https://www.kdstv-ostmark.de/event/semester-antrittsgottesdienst/
CATEGORIES:Aktivitas,Events
ATTACH;FMTTYPE=image/jpeg:https://www.kdstv-ostmark.de/wp/wp-content/uploads/2025/10/Verklaerung_Christi-e1760459747303.jpg
END:VEVENT
END:VCALENDAR