BEGIN:VCALENDAR
VERSION:2.0
PRODID:-//K.D.St.V. Ostmark - ECPv6.15.17.1//NONSGML v1.0//EN
CALSCALE:GREGORIAN
METHOD:PUBLISH
X-ORIGINAL-URL:https://www.kdstv-ostmark.de
X-WR-CALDESC:Veranstaltungen für K.D.St.V. Ostmark
REFRESH-INTERVAL;VALUE=DURATION:PT1H
X-Robots-Tag:noindex
X-PUBLISHED-TTL:PT1H
BEGIN:VTIMEZONE
TZID:Europe/Berlin
BEGIN:DAYLIGHT
TZOFFSETFROM:+0100
TZOFFSETTO:+0200
TZNAME:CEST
DTSTART:20180325T010000
END:DAYLIGHT
BEGIN:STANDARD
TZOFFSETFROM:+0200
TZOFFSETTO:+0100
TZNAME:CET
DTSTART:20181028T010000
END:STANDARD
BEGIN:DAYLIGHT
TZOFFSETFROM:+0100
TZOFFSETTO:+0200
TZNAME:CEST
DTSTART:20190331T010000
END:DAYLIGHT
BEGIN:STANDARD
TZOFFSETFROM:+0200
TZOFFSETTO:+0100
TZNAME:CET
DTSTART:20191027T010000
END:STANDARD
BEGIN:DAYLIGHT
TZOFFSETFROM:+0100
TZOFFSETTO:+0200
TZNAME:CEST
DTSTART:20200329T010000
END:DAYLIGHT
BEGIN:STANDARD
TZOFFSETFROM:+0200
TZOFFSETTO:+0100
TZNAME:CET
DTSTART:20201025T010000
END:STANDARD
END:VTIMEZONE
BEGIN:VEVENT
DTSTART;TZID=Europe/Berlin:20190707T180000
DTEND;TZID=Europe/Berlin:20190707T180000
DTSTAMP:20260420T170857
CREATED:20190429T080440Z
LAST-MODIFIED:20190520T115755Z
UID:2802-1562522400-1562522400@www.kdstv-ostmark.de
SUMMARY:Jazz / Swing im Serenadenhof
DESCRIPTION:AHZ Nürnberg-Fürth u.U. \n18:00 c.t. Essen\, Gutmann am Dutzendteich \n20:00 s.t. Jazz / Swing im Serenadenhof \nAnmeldung bis 10. Mai bei Arndt Bette
URL:https://www.kdstv-ostmark.de/event/jazz-swing-im-serenadenhof/
LOCATION:Serenadenhof Nürnberg\, Bayernstraße 100\, Nürnberg\, 90471
CATEGORIES:Aktivitas
END:VEVENT
END:VCALENDAR