BEGIN:VCALENDAR
VERSION:2.0
PRODID:-//K.D.St.V. Ostmark - ECPv6.15.17.1//NONSGML v1.0//EN
CALSCALE:GREGORIAN
METHOD:PUBLISH
X-WR-CALNAME:K.D.St.V. Ostmark
X-ORIGINAL-URL:https://www.kdstv-ostmark.de
X-WR-CALDESC:Veranstaltungen für K.D.St.V. Ostmark
REFRESH-INTERVAL;VALUE=DURATION:PT1H
X-Robots-Tag:noindex
X-PUBLISHED-TTL:PT1H
BEGIN:VTIMEZONE
TZID:Europe/Berlin
BEGIN:DAYLIGHT
TZOFFSETFROM:+0100
TZOFFSETTO:+0200
TZNAME:CEST
DTSTART:20180325T010000
END:DAYLIGHT
BEGIN:STANDARD
TZOFFSETFROM:+0200
TZOFFSETTO:+0100
TZNAME:CET
DTSTART:20181028T010000
END:STANDARD
BEGIN:DAYLIGHT
TZOFFSETFROM:+0100
TZOFFSETTO:+0200
TZNAME:CEST
DTSTART:20190331T010000
END:DAYLIGHT
BEGIN:STANDARD
TZOFFSETFROM:+0200
TZOFFSETTO:+0100
TZNAME:CET
DTSTART:20191027T010000
END:STANDARD
BEGIN:DAYLIGHT
TZOFFSETFROM:+0100
TZOFFSETTO:+0200
TZNAME:CEST
DTSTART:20200329T010000
END:DAYLIGHT
BEGIN:STANDARD
TZOFFSETFROM:+0200
TZOFFSETTO:+0100
TZNAME:CET
DTSTART:20201025T010000
END:STANDARD
END:VTIMEZONE
BEGIN:VEVENT
DTSTART;TZID=Europe/Berlin:20190608T190000
DTEND;TZID=Europe/Berlin:20190608T190000
DTSTAMP:20260421T084607
CREATED:20190607T140831Z
LAST-MODIFIED:20190607T140831Z
UID:3341-1560020400-1560020400@www.kdstv-ostmark.de
SUMMARY:Internationaler Grillabend
DESCRIPTION:Wir werden am Samstag die Testreihe starten und überprüfen\, ob unsere selbstgemachten Bratwürste nach zwei Wochen in der Tiefkühlung auch noch schmecken. Wer also am kommenden Samstag nach einer echten Alternative zur lauten Dauerbeschallung bei Rock im Park sucht\, ist herzlich eingeladen zu einem Internationalen Grillabend zusammen mit 14 Cartellbrüdern aus dem Österreichischen Cartellverband\, die zu Besuch in Nürnberg sind.
URL:https://www.kdstv-ostmark.de/event/internationaler-grillabend/
LOCATION:Ostmarkhaus\, Spittlertorzwinger 4\, Nürnberg\, 90402
CATEGORIES:Aktivitas,Events
END:VEVENT
END:VCALENDAR