BEGIN:VCALENDAR
VERSION:2.0
PRODID:-//K.D.St.V. Ostmark - ECPv6.15.17.1//NONSGML v1.0//EN
CALSCALE:GREGORIAN
METHOD:PUBLISH
X-WR-CALNAME:K.D.St.V. Ostmark
X-ORIGINAL-URL:https://www.kdstv-ostmark.de
X-WR-CALDESC:Veranstaltungen für K.D.St.V. Ostmark
REFRESH-INTERVAL;VALUE=DURATION:PT1H
X-Robots-Tag:noindex
X-PUBLISHED-TTL:PT1H
BEGIN:VTIMEZONE
TZID:Europe/Berlin
BEGIN:DAYLIGHT
TZOFFSETFROM:+0100
TZOFFSETTO:+0200
TZNAME:CEST
DTSTART:20180325T010000
END:DAYLIGHT
BEGIN:STANDARD
TZOFFSETFROM:+0200
TZOFFSETTO:+0100
TZNAME:CET
DTSTART:20181028T010000
END:STANDARD
BEGIN:DAYLIGHT
TZOFFSETFROM:+0100
TZOFFSETTO:+0200
TZNAME:CEST
DTSTART:20190331T010000
END:DAYLIGHT
BEGIN:STANDARD
TZOFFSETFROM:+0200
TZOFFSETTO:+0100
TZNAME:CET
DTSTART:20191027T010000
END:STANDARD
BEGIN:DAYLIGHT
TZOFFSETFROM:+0100
TZOFFSETTO:+0200
TZNAME:CEST
DTSTART:20200329T010000
END:DAYLIGHT
BEGIN:STANDARD
TZOFFSETFROM:+0200
TZOFFSETTO:+0100
TZNAME:CET
DTSTART:20201025T010000
END:STANDARD
END:VTIMEZONE
BEGIN:VEVENT
DTSTART;TZID=Europe/Berlin:20190529T200000
DTEND;TZID=Europe/Berlin:20190529T200000
DTSTAMP:20260421T084720
CREATED:20190528T102139Z
LAST-MODIFIED:20190528T102139Z
UID:3321-1559160000-1559160000@www.kdstv-ostmark.de
SUMMARY:Kreuzkneipe
DESCRIPTION:Anlässlich des 65. Jubiläums der Freundschaft zwischen der Absolvia Fürth von 1877 im FAC und der AAV Alemannia Fürth im PSC laden beide Bünde zu einer hochoffizielle Kreuzkneipe zur Feier des gemeinsamen Freundschaftsbands ein. Die Freundschaftskneipe findet um 20:00h im Kneipheim der Absolvia in der Rosenstraße 12 statt. Wir hoffen\, dass unsere rot-gold-blauen Ostmark-Farben auf dieser Freundschaftskneipe in adäquater Anzahl vertreten sein werden und freuen uns auf schöne und unbeschwerte Stunden im Kreise unserer verehrten Farbenbrüder.
URL:https://www.kdstv-ostmark.de/event/kreuzkneipe/
LOCATION:Absolvia Fürth\, Rosenstraße 12\, Fürth\, 90762
END:VEVENT
END:VCALENDAR