BEGIN:VCALENDAR
VERSION:2.0
PRODID:-//K.D.St.V. Ostmark - ECPv6.15.17.1//NONSGML v1.0//EN
CALSCALE:GREGORIAN
METHOD:PUBLISH
X-WR-CALNAME:K.D.St.V. Ostmark
X-ORIGINAL-URL:https://www.kdstv-ostmark.de
X-WR-CALDESC:Veranstaltungen für K.D.St.V. Ostmark
REFRESH-INTERVAL;VALUE=DURATION:PT1H
X-Robots-Tag:noindex
X-PUBLISHED-TTL:PT1H
BEGIN:VTIMEZONE
TZID:Europe/Berlin
BEGIN:DAYLIGHT
TZOFFSETFROM:+0100
TZOFFSETTO:+0200
TZNAME:CEST
DTSTART:20180325T010000
END:DAYLIGHT
BEGIN:STANDARD
TZOFFSETFROM:+0200
TZOFFSETTO:+0100
TZNAME:CET
DTSTART:20181028T010000
END:STANDARD
BEGIN:DAYLIGHT
TZOFFSETFROM:+0100
TZOFFSETTO:+0200
TZNAME:CEST
DTSTART:20190331T010000
END:DAYLIGHT
BEGIN:STANDARD
TZOFFSETFROM:+0200
TZOFFSETTO:+0100
TZNAME:CET
DTSTART:20191027T010000
END:STANDARD
BEGIN:DAYLIGHT
TZOFFSETFROM:+0100
TZOFFSETTO:+0200
TZNAME:CEST
DTSTART:20200329T010000
END:DAYLIGHT
BEGIN:STANDARD
TZOFFSETFROM:+0200
TZOFFSETTO:+0100
TZNAME:CET
DTSTART:20201025T010000
END:STANDARD
END:VTIMEZONE
BEGIN:VEVENT
DTSTART;TZID=Europe/Berlin:20190525T100000
DTEND;TZID=Europe/Berlin:20190525T100000
DTSTAMP:20260421T103112
CREATED:20190429T073142Z
LAST-MODIFIED:20221025T161041Z
UID:2780-1558778400-1558778400@www.kdstv-ostmark.de
SUMMARY:Wurst-Seminar
DESCRIPTION:Am Samstag\, den 25.05.2019\, erwartet uns eine „Triple-Veranstaltung“:\nZunächst wenden wir uns erneut der kulinarischen Kultur zu\, es findet um 10:00 c. t. das „Wurst-Seminar“ (1) geleitet von unserem lb. Bbr Phillip Breil statt. Wir werden wieder verschiedene Sorten (Brat-)Würste produzieren und bereits zum Mittagessen einen entsprechenden Imbiss bereithalten.\nAb ca. 15:00 Uhr wird dann der Grill für das Grillfest (2) angefeuert\, um die Qualität unserer frisch produzierten Erzeugnisse zu überprüfen. Kommet zuhauf und bringet Hunger\, Durst und Ausdauer mit\, denn wir werden am Abend selbstverständlich auch das DFB-Pokalfinale RB Leipzig – Bayern München (3) übertragen.
URL:https://www.kdstv-ostmark.de/event/wurst-seminar/
LOCATION:Ostmarkhaus\, Spittlertorzwinger 4\, Nürnberg\, 90402
CATEGORIES:Aktivitas
ATTACH;FMTTYPE=image/jpeg:https://www.kdstv-ostmark.de/wp/wp-content/uploads/2022/10/Wurstseminar-scaled-e1666714135805.jpg
END:VEVENT
END:VCALENDAR