BEGIN:VCALENDAR
VERSION:2.0
PRODID:-//K.D.St.V. Ostmark - ECPv6.15.17.1//NONSGML v1.0//EN
CALSCALE:GREGORIAN
METHOD:PUBLISH
X-ORIGINAL-URL:https://www.kdstv-ostmark.de
X-WR-CALDESC:Veranstaltungen für K.D.St.V. Ostmark
REFRESH-INTERVAL;VALUE=DURATION:PT1H
X-Robots-Tag:noindex
X-PUBLISHED-TTL:PT1H
BEGIN:VTIMEZONE
TZID:Europe/Berlin
BEGIN:DAYLIGHT
TZOFFSETFROM:+0100
TZOFFSETTO:+0200
TZNAME:CEST
DTSTART:20180325T010000
END:DAYLIGHT
BEGIN:STANDARD
TZOFFSETFROM:+0200
TZOFFSETTO:+0100
TZNAME:CET
DTSTART:20181028T010000
END:STANDARD
BEGIN:DAYLIGHT
TZOFFSETFROM:+0100
TZOFFSETTO:+0200
TZNAME:CEST
DTSTART:20190331T010000
END:DAYLIGHT
BEGIN:STANDARD
TZOFFSETFROM:+0200
TZOFFSETTO:+0100
TZNAME:CET
DTSTART:20191027T010000
END:STANDARD
BEGIN:DAYLIGHT
TZOFFSETFROM:+0100
TZOFFSETTO:+0200
TZNAME:CEST
DTSTART:20200329T010000
END:DAYLIGHT
BEGIN:STANDARD
TZOFFSETFROM:+0200
TZOFFSETTO:+0100
TZNAME:CET
DTSTART:20201025T010000
END:STANDARD
END:VTIMEZONE
BEGIN:VEVENT
DTSTART;TZID=Europe/Berlin:20190523T180000
DTEND;TZID=Europe/Berlin:20190523T180000
DTSTAMP:20260421T103603
CREATED:20190429T072951Z
LAST-MODIFIED:20190522T131801Z
UID:2778-1558634400-1558634400@www.kdstv-ostmark.de
SUMMARY:Ludwig Erhard Zentrum
DESCRIPTION:Am Donnerstag\, den 23.05.2019\, treffen wir uns zu einer Doppel-Veranstaltung\, einem „Kultur-Stammtisch“ zunächst um 18:00h s.t. in Fürth in der Ludwig-Erhard-Straße 6 zur Besichtigung des dortigen Ludwig-Erhard-Zentrums. Neben der Dauerausstellung läuft dort aktuell die Sonderausstellung „Schamlos? Sexualmoral im Wandel“ der Stiftung Haus der Geschichte der Bundesrepublik Deutschland: „Partnerschaft und Sexualität gehören zum Intimsten des Menschen. Gleichzeitig unterliegen sie gesellschaftlichen und politischen Rahmenbedingungen und sind oft Gegenstand öffentlicher Debatten. Gegliedert in sechs Bereiche behandelt die Sonderausstellung die Kontroverse um Sexualität und Geschlechterbeziehungen zwischen Liberalisierung\, Werteverfall und Pluralisierung.“ \nIm Anschluss (ca. 20:00h ff.) laufen wir von dort zum Grüner Brauhaus (Comödienplatz 1)\, um uns daselbst im kulinarischen Teil des Abends zu stärken und die Eindrücke des Museumsbesuchs zu diskutieren.
URL:https://www.kdstv-ostmark.de/event/besichtigung-des-ludwig-erhard-zentrums/
LOCATION:Ludwig Erhard Zentrum\, Ludwig-Erhard-Straße 6\, Fürth\, 90762
CATEGORIES:Aktivitas
ATTACH;FMTTYPE=image/jpeg:https://www.kdstv-ostmark.de/wp/wp-content/uploads/2019/04/800px-Konrad_Adenauer_-_Im_Gespräch_mit_Ludwig_Erhard-kasf0104.jpeg
END:VEVENT
END:VCALENDAR