BEGIN:VCALENDAR
VERSION:2.0
PRODID:-//K.D.St.V. Ostmark - ECPv6.15.17.1//NONSGML v1.0//EN
CALSCALE:GREGORIAN
METHOD:PUBLISH
X-ORIGINAL-URL:https://www.kdstv-ostmark.de
X-WR-CALDESC:Veranstaltungen für K.D.St.V. Ostmark
REFRESH-INTERVAL;VALUE=DURATION:PT1H
X-Robots-Tag:noindex
X-PUBLISHED-TTL:PT1H
BEGIN:VTIMEZONE
TZID:Europe/Berlin
BEGIN:DAYLIGHT
TZOFFSETFROM:+0100
TZOFFSETTO:+0200
TZNAME:CEST
DTSTART:20180325T010000
END:DAYLIGHT
BEGIN:STANDARD
TZOFFSETFROM:+0200
TZOFFSETTO:+0100
TZNAME:CET
DTSTART:20181028T010000
END:STANDARD
BEGIN:DAYLIGHT
TZOFFSETFROM:+0100
TZOFFSETTO:+0200
TZNAME:CEST
DTSTART:20190331T010000
END:DAYLIGHT
BEGIN:STANDARD
TZOFFSETFROM:+0200
TZOFFSETTO:+0100
TZNAME:CET
DTSTART:20191027T010000
END:STANDARD
BEGIN:DAYLIGHT
TZOFFSETFROM:+0100
TZOFFSETTO:+0200
TZNAME:CEST
DTSTART:20200329T010000
END:DAYLIGHT
BEGIN:STANDARD
TZOFFSETFROM:+0200
TZOFFSETTO:+0100
TZNAME:CET
DTSTART:20201025T010000
END:STANDARD
END:VTIMEZONE
BEGIN:VEVENT
DTSTART;TZID=Europe/Berlin:20190424T190000
DTEND;TZID=Europe/Berlin:20190424T190000
DTSTAMP:20260421T120855
CREATED:20190429T072048Z
LAST-MODIFIED:20190520T100931Z
UID:2766-1556132400-1556132400@www.kdstv-ostmark.de
SUMMARY:Ausstellungseröffnung: „Raumschiff Wohnzimmer. Die Mondlandung als Medienereignis.“
DESCRIPTION:Museum für Kommunikation\, Lessingstr. 6.Das moderierte Eröffnungsgespräch wird uns Aufschluss geben über die damalige Rezeption der Mondlandung im Großen wie im Kleinen wie auch deren heutige gestalterische Umsetzung im Museum. Der anschließende Gang durch die Ausstellung wird den Jüngeren die mediale Darstellung und Wirkung dieses menschheitsgeschichtlichen Jahrtausendereignisses in der Pre-Web-Ära nahebringen und bei den Älteren Erinnerungen an die eigene Wahrnehmung dieser Zeit vor nunmehr 50 Jahren wecken. Anschließend werden wir den Abend als Stammtisch auf dem Haus ausklingen lassen.
URL:https://www.kdstv-ostmark.de/event/ausstellungseroeffnung-raumschiff-wohnzimmer-die-mondlandung-als-medienereignis/
CATEGORIES:Aktivitas
END:VEVENT
END:VCALENDAR