BEGIN:VCALENDAR
VERSION:2.0
PRODID:-//K.D.St.V. Ostmark - ECPv6.15.17.1//NONSGML v1.0//EN
CALSCALE:GREGORIAN
METHOD:PUBLISH
X-WR-CALNAME:K.D.St.V. Ostmark
X-ORIGINAL-URL:https://www.kdstv-ostmark.de
X-WR-CALDESC:Veranstaltungen für K.D.St.V. Ostmark
REFRESH-INTERVAL;VALUE=DURATION:PT1H
X-Robots-Tag:noindex
X-PUBLISHED-TTL:PT1H
BEGIN:VTIMEZONE
TZID:Europe/Berlin
BEGIN:DAYLIGHT
TZOFFSETFROM:+0100
TZOFFSETTO:+0200
TZNAME:CEST
DTSTART:20180325T010000
END:DAYLIGHT
BEGIN:STANDARD
TZOFFSETFROM:+0200
TZOFFSETTO:+0100
TZNAME:CET
DTSTART:20181028T010000
END:STANDARD
BEGIN:DAYLIGHT
TZOFFSETFROM:+0100
TZOFFSETTO:+0200
TZNAME:CEST
DTSTART:20190331T010000
END:DAYLIGHT
BEGIN:STANDARD
TZOFFSETFROM:+0200
TZOFFSETTO:+0100
TZNAME:CET
DTSTART:20191027T010000
END:STANDARD
BEGIN:DAYLIGHT
TZOFFSETFROM:+0100
TZOFFSETTO:+0200
TZNAME:CEST
DTSTART:20200329T010000
END:DAYLIGHT
BEGIN:STANDARD
TZOFFSETFROM:+0200
TZOFFSETTO:+0100
TZNAME:CET
DTSTART:20201025T010000
END:STANDARD
END:VTIMEZONE
BEGIN:VEVENT
DTSTART;TZID=Europe/Berlin:20190312T180000
DTEND;TZID=Europe/Berlin:20190312T180000
DTSTAMP:20260421T133004
CREATED:20190429T083949Z
LAST-MODIFIED:20200303T212932Z
UID:2820-1552413600-1552413600@www.kdstv-ostmark.de
SUMMARY:Nockherberg-Übertragung
DESCRIPTION:Am Dienstag\, den 12.03.2019\, findet die alljährliche Starkbierprobe am Nockherberg statt. Das Derbleckn werden wir in den Kneipsaal übertragen und uns bei Brotzeit und Salvator schmecken lassen – es wird auch wieder den legendären Obazda von Bbr Stefan Heinisch v/o Nafets geben.\nUm uns vorab schon mit den Grundnahrungsmitteln auf den Abend einzustellen\, treffen wir uns um 18:00 Uhr c.t. adH. Die Übertragung beginnt um 19:00 Uhr s.t. \nDamit wir auch ausreichend mit Salvator und Brotzeit eingedeckt sind\, bitten wir um Rückmeldung an webmaster@kdstv-ostmark.de. Spontan Entschiedene sind aber selbstverständlich auch herzlich willkommen. \nEs gibt das Original-Salvator Starkbier von Paulaner: Das Salvator von Paulaner hat einen kräftigen\, typisch malzigen und ist sozusagen das Paulaner überhaupt. Es handelt sich um ein untergärige Doppelbock-Bier\, das durch feinsten Hopfen und dunkles Gerstenmalz verfeinert wurde. Den Paulaner Mönchen diente der Salvator in der Fastenzeit als Nahrungsersatz. Der berühmteste Braumeister war Frater Barnabas\, der ab 1773 die Paulaner Klosterbrauerei übernahm und leitete. Die von ihm stammende ursprüngliche Rezeptur ist bis jetzt so gut wie nicht verändert worden. Um das Original besser zu schützen\, ließ die Brauerei Paulaner 1896 die Warenbezeichnung „Salvator“ beim Patentamt eintragen. Auf dem Etikett ist zu lesen: „Paulaner Salvator – das ist die Original Starkbier-Spezialität aus München. Unfiltriert\, kastanienfarben und kräftigt\, malzaromatisch im Geschmack.“ \nDie Stammwürze beträgt 18\,3% (7\,9% vol) und es hat 70\,6 kcal/100 ml Kalorien. Gebraut nach dem bayrischen Reinheitsgebot von 1516. – Bbr. Heinisch \n 
URL:https://www.kdstv-ostmark.de/event/nockherberg-uebertragung/
LOCATION:Ostmarkhaus\, Spittlertorzwinger 4\, Nürnberg\, 90402
CATEGORIES:Aktivitas
ATTACH;FMTTYPE=image/jpeg:https://www.kdstv-ostmark.de/wp/wp-content/uploads/2020/03/DSCN8652-scaled-e1583257282404.jpg
END:VEVENT
END:VCALENDAR