BEGIN:VCALENDAR
VERSION:2.0
PRODID:-//K.D.St.V. Ostmark - ECPv6.15.17.1//NONSGML v1.0//EN
CALSCALE:GREGORIAN
METHOD:PUBLISH
X-ORIGINAL-URL:https://www.kdstv-ostmark.de
X-WR-CALDESC:Veranstaltungen für K.D.St.V. Ostmark
REFRESH-INTERVAL;VALUE=DURATION:PT1H
X-Robots-Tag:noindex
X-PUBLISHED-TTL:PT1H
BEGIN:VTIMEZONE
TZID:Europe/Berlin
BEGIN:DAYLIGHT
TZOFFSETFROM:+0100
TZOFFSETTO:+0200
TZNAME:CEST
DTSTART:20170326T010000
END:DAYLIGHT
BEGIN:STANDARD
TZOFFSETFROM:+0200
TZOFFSETTO:+0100
TZNAME:CET
DTSTART:20171029T010000
END:STANDARD
BEGIN:DAYLIGHT
TZOFFSETFROM:+0100
TZOFFSETTO:+0200
TZNAME:CEST
DTSTART:20180325T010000
END:DAYLIGHT
BEGIN:STANDARD
TZOFFSETFROM:+0200
TZOFFSETTO:+0100
TZNAME:CET
DTSTART:20181028T010000
END:STANDARD
BEGIN:DAYLIGHT
TZOFFSETFROM:+0100
TZOFFSETTO:+0200
TZNAME:CEST
DTSTART:20190331T010000
END:DAYLIGHT
BEGIN:STANDARD
TZOFFSETFROM:+0200
TZOFFSETTO:+0100
TZNAME:CET
DTSTART:20191027T010000
END:STANDARD
END:VTIMEZONE
BEGIN:VEVENT
DTSTART;TZID=Europe/Berlin:20180715T170000
DTEND;TZID=Europe/Berlin:20180715T170000
DTSTAMP:20260422T021734
CREATED:20180925T212828Z
LAST-MODIFIED:20180925T212828Z
UID:423-1531674000-1531674000@www.kdstv-ostmark.de
SUMMARY:WM 2018: Finale: Frankreich - Kroatien
DESCRIPTION:Trotz des frühen deutschen Ausscheidens werden wir das WM-Finale Frankreich gegen Kroatien übertragen – bei gutem Wetter natürlich in unserem Innenhof!
URL:https://www.kdstv-ostmark.de/event/wm-2018-finale-frankreich-kroatien/
LOCATION:Ostmarkhaus\, Spittlertorzwinger 4\, Nürnberg\, 90402
CATEGORIES:Aktivitas
END:VEVENT
END:VCALENDAR