BEGIN:VCALENDAR
VERSION:2.0
PRODID:-//K.D.St.V. Ostmark - ECPv6.15.17.1//NONSGML v1.0//EN
CALSCALE:GREGORIAN
METHOD:PUBLISH
X-WR-CALNAME:K.D.St.V. Ostmark
X-ORIGINAL-URL:https://www.kdstv-ostmark.de
X-WR-CALDESC:Veranstaltungen für K.D.St.V. Ostmark
REFRESH-INTERVAL;VALUE=DURATION:PT1H
X-Robots-Tag:noindex
X-PUBLISHED-TTL:PT1H
BEGIN:VTIMEZONE
TZID:Europe/Berlin
BEGIN:DAYLIGHT
TZOFFSETFROM:+0100
TZOFFSETTO:+0200
TZNAME:CEST
DTSTART:20170326T010000
END:DAYLIGHT
BEGIN:STANDARD
TZOFFSETFROM:+0200
TZOFFSETTO:+0100
TZNAME:CET
DTSTART:20171029T010000
END:STANDARD
BEGIN:DAYLIGHT
TZOFFSETFROM:+0100
TZOFFSETTO:+0200
TZNAME:CEST
DTSTART:20180325T010000
END:DAYLIGHT
BEGIN:STANDARD
TZOFFSETFROM:+0200
TZOFFSETTO:+0100
TZNAME:CET
DTSTART:20181028T010000
END:STANDARD
BEGIN:DAYLIGHT
TZOFFSETFROM:+0100
TZOFFSETTO:+0200
TZNAME:CEST
DTSTART:20190331T010000
END:DAYLIGHT
BEGIN:STANDARD
TZOFFSETFROM:+0200
TZOFFSETTO:+0100
TZNAME:CET
DTSTART:20191027T010000
END:STANDARD
END:VTIMEZONE
BEGIN:VEVENT
DTSTART;TZID=Europe/Berlin:20180426T184500
DTEND;TZID=Europe/Berlin:20180426T184500
DTSTAMP:20260422T070925
CREATED:20180925T170934Z
LAST-MODIFIED:20180925T171319Z
UID:388-1524768300-1524768300@www.kdstv-ostmark.de
SUMMARY:Besuch beim rumänisch-orthodoxen Metropoliten
DESCRIPTION:Am Donnerstag\, den 26.04.2018 um 19:00 Uhr ist die K. D. St. V. Ostmark zusammen mit der katholischen Kirchengemeinde Herz Jesu beim Metropoliten (vergleichbar mit dem Rang eines Erzbischofs) der rumänisch-orthodoxen Kirche für Deutschland\, Zentral- und Nordeuropa\, seiner Exzellenz Dr. Serafim Joanta\, eingeladen. Dr. Serafim Joanta wird uns durch die Kathedrale der Metropolie in der Fürther Straße 168\, 90429 Nürnberg (U-Bahn-Station Maximilianstraße)\, führen und auch über das Verhältnis der rumänisch-orthodoxen Kirche zur katholischen Kirche berichten. Von Seiten der katholischen Kirche wird Cbr Pfarrer Reinhold Seidl\, Pfarrer von Herz Jesu\, anwesend sein. \nTreffpunkt ist um 18:45 Uhr an der Fürther Straße (die Kirche liegt in einem Innenhof). Nach der Führung besteht selbstverständlich noch die Möglichkeit eines gemeinsamen Ausklangs (Biergärten bei gutem Wetter gibt es mit Schanzenbräu\, Lederer und Eberhardshof in der Nähe genügend). \nZur besseren Planung bitten wir bei Teilnahmeinteresse um kurze Rückmeldung an Christian_Kirsch@gmx.de. Eine spontane Teilnahme ist aber selbstverständlich auch möglich.
URL:https://www.kdstv-ostmark.de/event/besuch-beim-rumaenisch-orthodoxen-metropoliten/
CATEGORIES:Aktivitas
END:VEVENT
END:VCALENDAR