BEGIN:VCALENDAR
VERSION:2.0
PRODID:-//K.D.St.V. Ostmark - ECPv6.15.17.1//NONSGML v1.0//EN
CALSCALE:GREGORIAN
METHOD:PUBLISH
X-ORIGINAL-URL:https://www.kdstv-ostmark.de
X-WR-CALDESC:Veranstaltungen für K.D.St.V. Ostmark
REFRESH-INTERVAL;VALUE=DURATION:PT1H
X-Robots-Tag:noindex
X-PUBLISHED-TTL:PT1H
BEGIN:VTIMEZONE
TZID:Europe/Berlin
BEGIN:DAYLIGHT
TZOFFSETFROM:+0100
TZOFFSETTO:+0200
TZNAME:CEST
DTSTART:20160327T010000
END:DAYLIGHT
BEGIN:STANDARD
TZOFFSETFROM:+0200
TZOFFSETTO:+0100
TZNAME:CET
DTSTART:20161030T010000
END:STANDARD
BEGIN:DAYLIGHT
TZOFFSETFROM:+0100
TZOFFSETTO:+0200
TZNAME:CEST
DTSTART:20170326T010000
END:DAYLIGHT
BEGIN:STANDARD
TZOFFSETFROM:+0200
TZOFFSETTO:+0100
TZNAME:CET
DTSTART:20171029T010000
END:STANDARD
BEGIN:DAYLIGHT
TZOFFSETFROM:+0100
TZOFFSETTO:+0200
TZNAME:CEST
DTSTART:20180325T010000
END:DAYLIGHT
BEGIN:STANDARD
TZOFFSETFROM:+0200
TZOFFSETTO:+0100
TZNAME:CET
DTSTART:20181028T010000
END:STANDARD
END:VTIMEZONE
BEGIN:VEVENT
DTSTART;TZID=Europe/Berlin:20171110T193000
DTEND;TZID=Europe/Berlin:20171110T193000
DTSTAMP:20260422T152554
CREATED:20171002T164719Z
LAST-MODIFIED:20171002T164719Z
UID:347-1510342200-1510342200@www.kdstv-ostmark.de
SUMMARY:Ostmark Pitch: Kurzvorträge
DESCRIPTION:Ein repräsentables Potpourri unserer jüngeren Bundesbrüder über ihre Projekte in Wissenschaft\, Forschung und Industrie; Die Bundesbrüder Andreas Pazureck v/o Hans\, Anton Ebert v/o Paul und Patrick Schönberger freuen sich auf euer zahlreiches Erscheinen; Anschließende Diskussionsrunde mit Bier und Brez‘n
URL:https://www.kdstv-ostmark.de/event/ostmark-pitch-kurzvortraege/
LOCATION:Ostmarkhaus\, Spittlertorzwinger 4\, Nürnberg\, 90402
CATEGORIES:Aktivitas
END:VEVENT
END:VCALENDAR