BEGIN:VCALENDAR
VERSION:2.0
PRODID:-//K.D.St.V. Ostmark - ECPv6.15.17.1//NONSGML v1.0//EN
CALSCALE:GREGORIAN
METHOD:PUBLISH
X-ORIGINAL-URL:https://www.kdstv-ostmark.de
X-WR-CALDESC:Veranstaltungen für K.D.St.V. Ostmark
REFRESH-INTERVAL;VALUE=DURATION:PT1H
X-Robots-Tag:noindex
X-PUBLISHED-TTL:PT1H
BEGIN:VTIMEZONE
TZID:Europe/Berlin
BEGIN:DAYLIGHT
TZOFFSETFROM:+0100
TZOFFSETTO:+0200
TZNAME:CEST
DTSTART:20150329T010000
END:DAYLIGHT
BEGIN:STANDARD
TZOFFSETFROM:+0200
TZOFFSETTO:+0100
TZNAME:CET
DTSTART:20151025T010000
END:STANDARD
BEGIN:DAYLIGHT
TZOFFSETFROM:+0100
TZOFFSETTO:+0200
TZNAME:CEST
DTSTART:20160327T010000
END:DAYLIGHT
BEGIN:STANDARD
TZOFFSETFROM:+0200
TZOFFSETTO:+0100
TZNAME:CET
DTSTART:20161030T010000
END:STANDARD
BEGIN:DAYLIGHT
TZOFFSETFROM:+0100
TZOFFSETTO:+0200
TZNAME:CEST
DTSTART:20170326T010000
END:DAYLIGHT
BEGIN:STANDARD
TZOFFSETFROM:+0200
TZOFFSETTO:+0100
TZNAME:CET
DTSTART:20171029T010000
END:STANDARD
END:VTIMEZONE
BEGIN:VEVENT
DTSTART;TZID=Europe/Berlin:20161221T180000
DTEND;TZID=Europe/Berlin:20161221T180000
DTSTAMP:20260423T095245
CREATED:20161013T151423Z
LAST-MODIFIED:20161013T151423Z
UID:287-1482343200-1482343200@www.kdstv-ostmark.de
SUMMARY:Christkindlesmarktbesuch
DESCRIPTION:»Manche meinen\, Glühwein sei der Name einer Rebsorte\, die am Fuße des Ätna wächst« Gerald Drews\nGemeinsamer Christkindlesmarktbesuch.\nTreffpunkt: Fleischbrücke beim Ochsen\, der nie ein Kalb war.
URL:https://www.kdstv-ostmark.de/event/christkindlesmarktbesuch/
LOCATION:Christkindlesmarkt\, Hauptmarkt\, Nürnberg\, 90403
CATEGORIES:Aktivitas
END:VEVENT
END:VCALENDAR