BEGIN:VCALENDAR
VERSION:2.0
PRODID:-//K.D.St.V. Ostmark - ECPv6.15.17.1//NONSGML v1.0//EN
CALSCALE:GREGORIAN
METHOD:PUBLISH
X-ORIGINAL-URL:https://www.kdstv-ostmark.de
X-WR-CALDESC:Veranstaltungen für K.D.St.V. Ostmark
REFRESH-INTERVAL;VALUE=DURATION:PT1H
X-Robots-Tag:noindex
X-PUBLISHED-TTL:PT1H
BEGIN:VTIMEZONE
TZID:Europe/Berlin
BEGIN:DAYLIGHT
TZOFFSETFROM:+0100
TZOFFSETTO:+0200
TZNAME:CEST
DTSTART:20150329T010000
END:DAYLIGHT
BEGIN:STANDARD
TZOFFSETFROM:+0200
TZOFFSETTO:+0100
TZNAME:CET
DTSTART:20151025T010000
END:STANDARD
BEGIN:DAYLIGHT
TZOFFSETFROM:+0100
TZOFFSETTO:+0200
TZNAME:CEST
DTSTART:20160327T010000
END:DAYLIGHT
BEGIN:STANDARD
TZOFFSETFROM:+0200
TZOFFSETTO:+0100
TZNAME:CET
DTSTART:20161030T010000
END:STANDARD
BEGIN:DAYLIGHT
TZOFFSETFROM:+0100
TZOFFSETTO:+0200
TZNAME:CEST
DTSTART:20170326T010000
END:DAYLIGHT
BEGIN:STANDARD
TZOFFSETFROM:+0200
TZOFFSETTO:+0100
TZNAME:CET
DTSTART:20171029T010000
END:STANDARD
END:VTIMEZONE
BEGIN:VEVENT
DTSTART;VALUE=DATE:20161216
DTEND;VALUE=DATE:20161219
DTSTAMP:20260423T095220
CREATED:20161013T151306Z
LAST-MODIFIED:20161013T151327Z
UID:286-1481846400-1482105599@www.kdstv-ostmark.de
SUMMARY:117. Thomastag
DESCRIPTION:»Ihre Tore werden den ganzen Tag nicht geschlossen – Nacht wird es dort nicht mehr geben.« Offb\, 21\,25 \nFr. 16.12. 20.00 c.t. Begrüßungsabend: Traditioneller Begrüßungsabend auf dem Ostmarkhaus mit extraspontaner Spontankneipe \nSa. 17.12. 14.00 s.t. Heimvereinssitzung/AHC/CC\n                  19.30 s.t. Festkommers der CV-Verbindungen  im Festsaal des Maritim-Hotel Nürnberg\nanschl.     Ausklang auf dem Ostmarkhaus \nSo. 18.12. 11.30 s.t. Festgottesdienst in „Unsere Liebe Frau“ am Hauptmarkt\n14.00 s.t. Farbenbummel ab Mauthalle\nanschl.     Ausklang auf dem Ostmarkhaus
URL:https://www.kdstv-ostmark.de/event/117-thomastag/
CATEGORIES:Aktivitas
END:VEVENT
END:VCALENDAR