BEGIN:VCALENDAR
VERSION:2.0
PRODID:-//K.D.St.V. Ostmark - ECPv6.15.17.1//NONSGML v1.0//EN
CALSCALE:GREGORIAN
METHOD:PUBLISH
X-ORIGINAL-URL:https://www.kdstv-ostmark.de
X-WR-CALDESC:Veranstaltungen für K.D.St.V. Ostmark
REFRESH-INTERVAL;VALUE=DURATION:PT1H
X-Robots-Tag:noindex
X-PUBLISHED-TTL:PT1H
BEGIN:VTIMEZONE
TZID:Europe/Berlin
BEGIN:DAYLIGHT
TZOFFSETFROM:+0100
TZOFFSETTO:+0200
TZNAME:CEST
DTSTART:20140330T010000
END:DAYLIGHT
BEGIN:STANDARD
TZOFFSETFROM:+0200
TZOFFSETTO:+0100
TZNAME:CET
DTSTART:20141026T010000
END:STANDARD
BEGIN:DAYLIGHT
TZOFFSETFROM:+0100
TZOFFSETTO:+0200
TZNAME:CEST
DTSTART:20150329T010000
END:DAYLIGHT
BEGIN:STANDARD
TZOFFSETFROM:+0200
TZOFFSETTO:+0100
TZNAME:CET
DTSTART:20151025T010000
END:STANDARD
BEGIN:DAYLIGHT
TZOFFSETFROM:+0100
TZOFFSETTO:+0200
TZNAME:CEST
DTSTART:20160327T010000
END:DAYLIGHT
BEGIN:STANDARD
TZOFFSETFROM:+0200
TZOFFSETTO:+0100
TZNAME:CET
DTSTART:20161030T010000
END:STANDARD
END:VTIMEZONE
BEGIN:VEVENT
DTSTART;TZID=Europe/Berlin:20151202T180000
DTEND;TZID=Europe/Berlin:20151202T180000
DTSTAMP:20260424T051119
CREATED:20151008T164007Z
LAST-MODIFIED:20151008T164902Z
UID:228-1449079200-1449079200@www.kdstv-ostmark.de
SUMMARY:Bummeln am Christkindlesmarkt
DESCRIPTION:»Willsd an\, der dich ned ärchern ko\, no kaffsd der hald an Zwedschgermo!«\nTreffpunkt: Fleischbrücke unter dem Ochsen\, der nie ein Kalb war.\nDanach gemeinsamer Bummel über den Christkindlesmarkt.
URL:https://www.kdstv-ostmark.de/event/bummeln-am-christkindlesmarkt/
LOCATION:Christkindlesmarkt\, Hauptmarkt\, Nürnberg\, 90403
CATEGORIES:Aktivitas
END:VEVENT
END:VCALENDAR