BEGIN:VCALENDAR
VERSION:2.0
PRODID:-//K.D.St.V. Ostmark - ECPv6.15.17.1//NONSGML v1.0//EN
CALSCALE:GREGORIAN
METHOD:PUBLISH
X-WR-CALNAME:K.D.St.V. Ostmark
X-ORIGINAL-URL:https://www.kdstv-ostmark.de
X-WR-CALDESC:Veranstaltungen für K.D.St.V. Ostmark
REFRESH-INTERVAL;VALUE=DURATION:PT1H
X-Robots-Tag:noindex
X-PUBLISHED-TTL:PT1H
BEGIN:VTIMEZONE
TZID:Europe/Berlin
BEGIN:DAYLIGHT
TZOFFSETFROM:+0100
TZOFFSETTO:+0200
TZNAME:CEST
DTSTART:20140330T010000
END:DAYLIGHT
BEGIN:STANDARD
TZOFFSETFROM:+0200
TZOFFSETTO:+0100
TZNAME:CET
DTSTART:20141026T010000
END:STANDARD
BEGIN:DAYLIGHT
TZOFFSETFROM:+0100
TZOFFSETTO:+0200
TZNAME:CEST
DTSTART:20150329T010000
END:DAYLIGHT
BEGIN:STANDARD
TZOFFSETFROM:+0200
TZOFFSETTO:+0100
TZNAME:CET
DTSTART:20151025T010000
END:STANDARD
BEGIN:DAYLIGHT
TZOFFSETFROM:+0100
TZOFFSETTO:+0200
TZNAME:CEST
DTSTART:20160327T010000
END:DAYLIGHT
BEGIN:STANDARD
TZOFFSETFROM:+0200
TZOFFSETTO:+0100
TZNAME:CET
DTSTART:20161030T010000
END:STANDARD
END:VTIMEZONE
BEGIN:VEVENT
DTSTART;TZID=Europe/Berlin:20151028T180000
DTEND;TZID=Europe/Berlin:20151028T180000
DTSTAMP:20260424T062539
CREATED:20151008T154921Z
LAST-MODIFIED:20151008T160553Z
UID:194-1446055200-1446055200@www.kdstv-ostmark.de
SUMMARY:Führung "Felsengänge"
DESCRIPTION:»Rotes Bier in tiefen Kellern«\nEin Rundgang durch die tiefen Felsengänge unter Nürnberg inklusive der Verkostung des Nürnberger Stadtbiers: Das Rotbier.
URL:https://www.kdstv-ostmark.de/event/fuehrung-felsengaenge/
LOCATION:Albrecht-Dürer-Denkmal\, Albrecht-Dürer-Platz\, Nürnberg\, Bayern\, 90403
CATEGORIES:Aktivitas
END:VEVENT
END:VCALENDAR